BEGIN:VCALENDAR
VERSION:2.0
PRODID:-//MaigeCreations - ECPv6.15.20//NONSGML v1.0//EN
CALSCALE:GREGORIAN
METHOD:PUBLISH
X-WR-CALNAME:MaigeCreations
X-ORIGINAL-URL:https://maigecreations.com
X-WR-CALDESC:Events for MaigeCreations
REFRESH-INTERVAL;VALUE=DURATION:PT1H
X-Robots-Tag:noindex
X-PUBLISHED-TTL:PT1H
BEGIN:VTIMEZONE
TZID:UTC
BEGIN:STANDARD
TZOFFSETFROM:+0000
TZOFFSETTO:+0000
TZNAME:UTC
DTSTART:20230101T000000
END:STANDARD
END:VTIMEZONE
BEGIN:VEVENT
DTSTART;TZID=UTC:20241102T100000
DTEND;TZID=UTC:20241103T170000
DTSTAMP:20260423T152946
CREATED:20240910T040515Z
LAST-MODIFIED:20240910T040522Z
UID:807-1730541600-1730653200@maigecreations.com
SUMMARY:Kitchener Comic-Con
DESCRIPTION:
URL:https://maigecreations.com/event/kitchener-comic-con/
LOCATION:Kitchener City Hall\, 200 King St. W\, Kitchener\, Ontario\, N2G 4G7\, Canada
END:VEVENT
BEGIN:VEVENT
DTSTART;TZID=UTC:20240921T100000
DTEND;TZID=UTC:20240921T150000
DTSTAMP:20260423T152946
CREATED:20240910T035724Z
LAST-MODIFIED:20240910T035730Z
UID:803-1726912800-1726930800@maigecreations.com
SUMMARY:Waterloo Fall Creators Market
DESCRIPTION:
URL:https://maigecreations.com/event/waterloo-fall-creators-market/
LOCATION:SideWalk Community Centre\, 400 Northfield Drive West\, Waterloo\, Ontario\, N2L 0A6\, Canada
END:VEVENT
BEGIN:VEVENT
DTSTART;TZID=UTC:20240914T100000
DTEND;TZID=UTC:20240915T170000
DTSTAMP:20260423T152946
CREATED:20240910T034259Z
LAST-MODIFIED:20240910T034346Z
UID:798-1726308000-1726419600@maigecreations.com
SUMMARY:London Comic-Con
DESCRIPTION:
URL:https://maigecreations.com/event/london-comic-con/
LOCATION:RBC Place\, 300 York St\, London\, Ontario\, N6B 1P8\, Canada
END:VEVENT
END:VCALENDAR